BEGIN:VCALENDAR
VERSION:2.0
PRODID:-//ChamberMaster//Event Calendar 2.0//EN
METHOD:PUBLISH
X-PUBLISHED-TTL:P3D
REFRESH-INTERVAL:P3D
CALSCALE:GREGORIAN
BEGIN:VEVENT
DTSTART:20260502T133000Z
DTEND:20260502T170000Z
X-MICROSOFT-CDO-ALLDAYEVENT:FALSE
SUMMARY:Tacos & Trash
DESCRIPTION:Bring yourself\, your friends\, coworkers\, youth group\, civic organization for citywide trash clean up and we treat you to tacos after. Register by April 24th to guarantee you get a FREE t-shirt and in your requested size. Supplies are all provided! Awards for groups with most volunteers. Categories are for: largest civic group\, business\, school group and church.
X-ALT-DESC;FMTTYPE=text/html:Bring yourself\, your friends\, coworkers\, youth group\, civic organization for citywide trash clean up and we treat you to tacos after. Register by April 24th to guarantee you get a FREE t-shirt and in your requested size. Supplies are all provided! Awards for groups with most volunteers. Categories are for: largest civic group\, business\, school group and church.
LOCATION:Rancho Viejo 5105 Frontage Rd Greenville\, TX75402
UID:e.2742.8702
SEQUENCE:3
DTSTAMP:20260421T180529Z
URL:https://business.greenvillechamber.com/events/details/tacos-trash-8702
END:VEVENT

END:VCALENDAR
