BEGIN:VCALENDAR
VERSION:2.0
PRODID:-//ChamberMaster//Event Calendar 2.0//EN
METHOD:PUBLISH
X-PUBLISHED-TTL:P3D
REFRESH-INTERVAL:P3D
CALSCALE:GREGORIAN
BEGIN:VEVENT
DTSTART:20260421T183000Z
DTEND:20260421T190000Z
X-MICROSOFT-CDO-ALLDAYEVENT:FALSE
SUMMARY:Ribbon Cutting for Psych Pointe
DESCRIPTION:Join us for a Ribbon Cutting for Psych Point\, one of our newest members\, at 1:30 on Tuesday\, April 21.  They are located at 2200 Traders Road\, Suite 501 in Greenville.
X-ALT-DESC;FMTTYPE=text/html:<span style="font-size:16px\;"><strong>Join us for a Ribbon Cutting for Psych Point\, one of our newest members\, at 1:30 on Tuesday\, April 21.&nbsp\; They are located at 2200 Traders Road\, Suite 501 in Greenville.</strong></span>
LOCATION:
UID:e.2742.8689
SEQUENCE:3
DTSTAMP:20260424T190120Z
URL:https://business.greenvillechamber.com/events/details/ribbon-cutting-for-psych-pointe-8689
END:VEVENT

END:VCALENDAR
