BEGIN:VCALENDAR
VERSION:2.0
PRODID:-//ChamberMaster//Event Calendar 2.0//EN
METHOD:PUBLISH
X-PUBLISHED-TTL:P3D
REFRESH-INTERVAL:P3D
CALSCALE:GREGORIAN
BEGIN:VEVENT
DTSTART:20250520T183000Z
DTEND:20250520T190000Z
X-MICROSOFT-CDO-ALLDAYEVENT:FALSE
SUMMARY:Ribbon Cutting for Nissan of Greenville!
DESCRIPTION:Join us for a Ribbon Cutting for our newest Investor on Tuesday\, May 20 at 1:30 at Nissan of Greenville located at 6403 Interstate Hwy 30 in Greenville.
X-ALT-DESC;FMTTYPE=text/html:<strong><span style="font-size:16px\;">Join us for a Ribbon Cutting for our newest Investor on Tuesday\, May 20 at 1:30 at Nissan of Greenville located at&nbsp\;6403 Interstate Hwy 30 in Greenville.</span></strong>
LOCATION:
UID:e.2742.8573
SEQUENCE:3
DTSTAMP:20260424T100634Z
URL:https://business.greenvillechamber.com/events/details/ribbon-cutting-for-nissan-of-greenville-8573
END:VEVENT

END:VCALENDAR
