BEGIN:VCALENDAR
VERSION:2.0
PRODID:-//ChamberMaster//Event Calendar 2.0//EN
METHOD:PUBLISH
X-PUBLISHED-TTL:P3D
REFRESH-INTERVAL:P3D
CALSCALE:GREGORIAN
BEGIN:VEVENT
DTSTART:20260502T150000Z
DTEND:20260502T180000Z
X-MICROSOFT-CDO-ALLDAYEVENT:FALSE
SUMMARY:Munzee at the Museum
DESCRIPTION:Join us at the Audie Murphy/American Cotton Museum for Munzee at the Museum. What is Munzee you might ask yourself? Munzee is the next generation in global scavenger hunt games. Track down QR codes hidden in the real world and capture them for points. Whether you are a casual player\, an avid explorer\, or a hardcore competition enthusiast\, Munzee helps you rediscover the world around you. There are over 16 million munzees deployed worldwide and there have been over 1 billion captures worldwide. Everyone will have the unique opportunity to capture munzees on the museum grounds and inside the museum that will only be available during the event. During the event there will also be no charge for participants to go through the museum so it will be a great time to both play the game and visit the museum. For additional questions please contact the Museum at (903) 450-4502. Funding for this event is provided in part by the City of Greenville Hotel/Motel Occupancy Tax Revenues.
X-ALT-DESC;FMTTYPE=text/html:Join us at the Audie Murphy/American Cotton Museum for Munzee at the Museum. What is Munzee you might ask yourself? Munzee is the next generation in global scavenger hunt games. Track down QR codes hidden in the real world and capture them for points. Whether you are a casual player\, an avid explorer\, or a hardcore competition enthusiast\, Munzee helps you rediscover the world around you. There are over 16 million munzees deployed worldwide and there have been over 1 billion captures worldwide. Everyone will have the unique opportunity to capture munzees on the museum grounds and inside the museum that will only be available during the event. During the event there will also be no charge for participants to go through the museum so it will be a great time to both play the game and visit the museum. For additional questions please contact the Museum at (903) 450-4502. Funding for this event is provided in part by the City of Greenville Hotel/Motel Occupancy Tax Revenues.
LOCATION:Audie Murphy/American Cotton Museum
UID:e.2742.8704
SEQUENCE:3
DTSTAMP:20260421T234854Z
URL:https://business.greenvillechamber.com/events/details/munzee-at-the-museum-05-02-2026-8704
END:VEVENT

END:VCALENDAR
