BEGIN:VCALENDAR
VERSION:2.0
PRODID:-//ChamberMaster//Event Calendar 2.0//EN
METHOD:PUBLISH
X-PUBLISHED-TTL:P3D
REFRESH-INTERVAL:P3D
CALSCALE:GREGORIAN
BEGIN:VEVENT
DTSTART:20260625T223000Z
DTEND:20260625T233000Z
X-MICROSOFT-CDO-ALLDAYEVENT:FALSE
SUMMARY:Leadership Hunt County Kick Off Meeting
DESCRIPTION:Leadership Hunt County\n\nKick Off Meeting\n\n \n\nWe are looking for current and potential leaders who are prepared and committed to serve as catalysts of positive change for the quality of life in the Greater Greenville area. The Leadership Hunt County class will begin in September and will meet once a month for 9 months for a full day while learning about what makes a community operate\, including Economic Development\, Health Care\, Government\, Human Services\, Education\, Law & Justice\, Diversity\, Arts & Culture\, Community Boards and Volunteering. \n\n \n\nAn informational meeting for those interested in Leadership Hunt County will be Thursday\, June 25 from 5:30-6:30 at The Greenville Chamber of Commerce Boardroom. Come listen to Alumni from Leadership Hunt County speak about their experiences while enjoying light appetizers and drinks.\n\n\n\nClick Here for Leadership Application\n\nClick Here for Sponsorship Opportunities\n\n\n\n"The important part of leadership is the first follower. If that 2nd player doesn't follow the first player\, the movement ends.... Leadership isn't about the smartest or best idea\, it's about how to bring those around you along on the journey."
X-ALT-DESC;FMTTYPE=text/html:<div style="color: rgb(64\, 63\, 66)\; font-family: Arial\, Verdana\, Helvetica\, sans-serif\; font-size: 12px\; white-space: pre-wrap\; text-align: center\;"><span style="font-size: 36px\; font-weight: bold\;">Leadership Hunt County</span></div>\n\n<div style="color: rgb(64\, 63\, 66)\; font-family: Arial\, Verdana\, Helvetica\, sans-serif\; font-size: 12px\; white-space: pre-wrap\; text-align: center\;"><span style="font-size: 36px\; font-weight: bold\;">Kick Off Meeting</span></div>\n\n<div style="color: rgb(64\, 63\, 66)\; font-family: Arial\, Verdana\, Helvetica\, sans-serif\; font-size: 12px\; white-space: pre-wrap\; text-align: center\;">&nbsp\;</div>\n\n<div style="color: rgb(64\, 63\, 66)\; font-family: Arial\, Verdana\, Helvetica\, sans-serif\; font-size: 12px\; white-space: pre-wrap\;"><span style="font-size: 16px\; font-weight: bold\;">We are looking for current and potential leaders who are prepared and committed to serve as catalysts of positive change for the quality of life in the Greater Greenville area. The Leadership Hunt County class will begin in September and will meet once a month for 9 months for a full day while learning about what makes a community operate\, including Economic Development\, Health Care\, Government\, Human Services\, Education\, Law &amp\; Justice\, Diversity\, Arts &amp\; Culture\, Community Boards and Volunteering. </span></div>\n\n<div style="color: rgb(64\, 63\, 66)\; font-family: Arial\, Verdana\, Helvetica\, sans-serif\; font-size: 12px\; white-space: pre-wrap\;">&nbsp\;</div>\n\n<div style="color: rgb(64\, 63\, 66)\; font-family: Arial\, Verdana\, Helvetica\, sans-serif\; white-space: pre-wrap\;"><span style="font-size: 16px\; font-weight: bold\;">An informational meeting for those interested in Leadership Hunt County will be Thursday\, June 25 from 5:30-6:30 at The Greenville Chamber of Commerce Boardroom. Come listen to Alumni from Leadership Hunt County speak about their experiences while enjoying light appetizers and drinks.<br />\n<br />\n<a href="https://chambermaster.blob.core.windows.net/userfiles/UserFiles/chambers/2742/File/LeadershipApplication20271.pdf"><span style="color:#0000FF\;">Click Here for Leadership Application</span></a><br />\n<a href="https://chambermaster.blob.core.windows.net/userfiles/UserFiles/chambers/2742/File/LeadershipPartnerships20271.pdf"><span style="color:#0000FF\;">Click Here for Sponsorship Opportunities</span></a></span><br />\n<br />\n<span style="color: rgb(255\, 0\, 0)\; font-family: Arial\, Verdana\, Helvetica\, sans-serif\; font-size: 14px\; font-weight: 700\; white-space: pre-wrap\;">&quot\;The important part of leadership is the first follower. If that 2nd player doesn&#39\;t follow the first player\, the movement ends.... Leadership isn&#39\;t about the smartest or best idea\, it&#39\;s about how to bring those around you along on the journey.&quot\;</span></div>\n
LOCATION:
UID:e.2742.8707
SEQUENCE:3
DTSTAMP:20260422T194644Z
URL:https://business.greenvillechamber.com/events/details/leadership-hunt-county-kick-off-meeting-8707
END:VEVENT

END:VCALENDAR
