BEGIN:VCALENDAR
VERSION:2.0
PRODID:-//ChamberMaster//Event Calendar 2.0//EN
METHOD:PUBLISH
X-PUBLISHED-TTL:P3D
REFRESH-INTERVAL:P3D
CALSCALE:GREGORIAN
BEGIN:VEVENT
DTSTART:20260626T230000Z
DTEND:20260627T000000Z
X-MICROSOFT-CDO-ALLDAYEVENT:FALSE
SUMMARY:Hella Shrine Kids Fest
DESCRIPTION:FREE Children's Magic Show and Toy Giveaway. Wonderful time for the whole family. The program is free for everyone. We look forward to seeing you there.
X-ALT-DESC;FMTTYPE=text/html:FREE Children&#39\;s Magic Show and Toy Giveaway. Wonderful time for the whole family. The program is free for everyone. We look forward to seeing you there.
LOCATION:Greenville Mason's Lodge 2603 Canton St Greenville\, TX 75402
UID:e.2742.8703
SEQUENCE:3
DTSTAMP:20260421T175531Z
URL:https://business.greenvillechamber.com/events/details/hella-shrine-kids-fest-8703
END:VEVENT

END:VCALENDAR
