BEGIN:VCALENDAR
VERSION:2.0
PRODID:-//ChamberMaster//Event Calendar 2.0//EN
METHOD:PUBLISH
X-PUBLISHED-TTL:P3D
REFRESH-INTERVAL:P3D
CALSCALE:GREGORIAN
BEGIN:VEVENT
DTSTART:20260410T223000Z
DTEND:20260411T033000Z
X-MICROSOFT-CDO-ALLDAYEVENT:FALSE
SUMMARY:HCCAC Strikes for Tikes
DESCRIPTION:Join us for the Hunt County Children's Advocacy Center's Annual Strikes for Tikes Bowling Event and help us "Strike Out Child Abuse" in Hunt County!!\n\n\n\nSpectators: Free admission\n\n4 players per team\n\nPlatinum Sponsor Team: 875.00 and up\, includes 3 teams\n\nGold Sponsor Team: 675.00. includes 2 teams\n\nSilver Sponsor Team: 375.00 per team\n\nBronze Sponsor: 200.00 includes name on shirts (no teams)
X-ALT-DESC;FMTTYPE=text/html:<strong><span style="font-size:16px\;">Join us for the Hunt County Children&#39\;s Advocacy Center&#39\;s Annual Strikes for Tikes Bowling Event and help us &quot\;Strike Out Child Abuse&quot\; in Hunt County!!<br />\n<br />\nSpectators: Free admission<br />\n4 players per team<br />\nPlatinum Sponsor Team: 875.00 and up\, includes 3 teams<br />\nGold Sponsor Team: 675.00. includes 2 teams<br />\nSilver Sponsor Team: 375.00 per team<br />\nBronze Sponsor: 200.00 includes name on shirts (no teams)</span></strong><br />\n&nbsp\;
LOCATION:Shenaniganz - Greenville\, Tx
UID:e.2742.8675
SEQUENCE:3
DTSTAMP:20260424T203007Z
URL:https://business.greenvillechamber.com/events/details/hccac-strikes-for-tikes-8675
END:VEVENT

END:VCALENDAR
