BEGIN:VCALENDAR
VERSION:2.0
PRODID:-//ChamberMaster//Event Calendar 2.0//EN
METHOD:PUBLISH
X-PUBLISHED-TTL:P3D
REFRESH-INTERVAL:P3D
CALSCALE:GREGORIAN
BEGIN:VEVENT
DTSTART:20240128T013000Z
DTEND:20240128T030000Z
X-MICROSOFT-CDO-ALLDAYEVENT:FALSE
SUMMARY:Forever Simon & Garfunkel - by Sean Altman and Jack Skuller
DESCRIPTION:Forever Simon & Garfunkel celebrates the best-selling duo in rock'n'roll history. With humor\, soaring energy\, charm\, and laser precise harmony\, Sean Altman & Jack Skuller lead the audience on a concert journey through Paul Simon and Art Garfunkel's teenage roots\, their early success as a groovy folk act\, their global dominance as hit-makers\, and even some of Paul Simon's solo career. The Sound Of Silence\, Bridge Over Troubled Water\, Mrs. Robinson\, I Am A Rock\, The Boxer\, Homeward Bound\, Cecilia\, Hazy Shade Of Winter\, Feeling Groovy\, Me & Julio Down by the Schoolyard\, Kodachrome\, and many more!\n\nAward-winning singer-songwriters Sean Altman (Rockapella) & Jack Skuller (Songwriters Hall Of Fame Buddy Holly Prize) met on stage in 2010\, when they were paired at a variety show to duet Mrs. Robinson. Jack had just celebrated his 14th birthday\, and Sean had just celebrated his shiny new AARP card\, but the audience found their December-January musical bromance and brotherly harmony to be enchanting and mesmerizing. The pair has toured as The Everly Set since 2016\, celebrating the hits of The Everly Brothers. They formed Forever Simon & Garfunkel in 2020\, and they tour both acts internationally.
X-ALT-DESC;FMTTYPE=text/html:<p><span style="color:rgb(12\, 113\, 195)"><strong>Forever Simon &amp\; Garfunkel</strong></span>&nbsp\;celebrates the best-selling duo in rock&rsquo\;n&rsquo\;roll history. With humor\, soaring energy\, charm\, and laser precise harmony\,&nbsp\;<span style="color:rgb(12\, 113\, 195)"><strong>Sean Altman &amp\; Jack Skuller&nbsp\;</strong></span>lead the audience on a concert journey through Paul Simon and Art Garfunkel&rsquo\;s teenage roots\, their early success as a groovy folk act\, their global dominance as hit-makers\, and even some of Paul Simon&rsquo\;s solo career.&nbsp\;<em><strong>The Sound Of Silence</strong>\,&nbsp\;<strong>Bridge Over Troubled Water</strong>\,&nbsp\;<strong>Mrs. Robinson</strong>\,&nbsp\;<strong>I Am A Rock</strong>\,&nbsp\;<strong>The Boxer</strong>\,&nbsp\;<strong>Homeward Bound</strong>\,&nbsp\;<strong>Cecilia</strong>\,&nbsp\;<strong>Hazy Shade Of Winter</strong>\,&nbsp\;<strong>Feeling Groovy</strong>\,&nbsp\;<strong>Me &amp\; Julio Down by the Schoolyard</strong>\,&nbsp\;<strong>Kodachrome</strong>\,&nbsp\;</em>and many more!</p>\n\n<p>Award-winning singer-songwriters&nbsp\;<span style="color:rgb(12\, 113\, 195)"><strong>Sean Altman</strong></span>&nbsp\;(<span style="color:rgb(12\, 113\, 195)"><a href="https://rockapella.com/" rel="noopener" style="box-sizing: border-box\; text-decoration-line: none\; margin: 0px\; padding: 0px\; border: 0px\; outline: 0px\; text-size-adjust: 100%\; vertical-align: baseline\; background: transparent\; color: rgb(12\, 113\, 195)\;" target="_blank">Rockapella</a></span>) &amp\;&nbsp\;<span style="color:rgb(12\, 113\, 195)"><strong>Jack Skuller</strong></span>&nbsp\;(<span style="color:rgb(12\, 113\, 195)"><a href="https://www.songhall.org/" rel="noopener" style="box-sizing: border-box\; text-decoration-line: none\; margin: 0px\; padding: 0px\; border: 0px\; outline: 0px\; text-size-adjust: 100%\; vertical-align: baseline\; background: transparent\; color: rgb(12\, 113\, 195)\;" target="_blank">Songwriters Hall Of Fame</a></span>&nbsp\;Buddy Holly Prize) met on stage in 2010\, when they were paired at a variety show to duet&nbsp\;<em>Mrs. Robinson</em>. Jack had just celebrated his 14th birthday\, and Sean had just celebrated his shiny new AARP card\, but the audience found their December-January musical bromance and brotherly harmony to be enchanting and mesmerizing. The pair has toured as The Everly Set since 2016\, celebrating the hits of The Everly Brothers. They formed Forever Simon &amp\; Garfunkel in 2020\, and they tour both acts internationally.</p>\n
LOCATION:Greenville Municipal Auditorium 2821 Washington Street ?Greenville\, Tx
UID:e.2742.8051
SEQUENCE:3
DTSTAMP:20260423T101558Z
URL:https://business.greenvillechamber.com/events/details/forever-simon-garfunkel-by-sean-altman-and-jack-skuller-8051
END:VEVENT

END:VCALENDAR
