BEGIN:VCALENDAR
VERSION:2.0
PRODID:-//ChamberMaster//Event Calendar 2.0//EN
METHOD:PUBLISH
X-PUBLISHED-TTL:P3D
REFRESH-INTERVAL:P3D
CALSCALE:GREGORIAN
BEGIN:VEVENT
DTSTART:20240408T140000Z
DTEND:20240408T220000Z
X-MICROSOFT-CDO-ALLDAYEVENT:FALSE
SUMMARY:Eclipse Day at the Museum
DESCRIPTION:Special eclipse hours at the Audie Murphy/American Cotton Museum. There will be a gate fee of $8 per person\, 5 and under free. Includes admission to the museum and space on the grounds to watch the solar eclipse. The museum sits on 10 acres of land. Bring your own lawn chairs\, picnic blankets and enjoy a picnic while watching the eclipse.
X-ALT-DESC;FMTTYPE=text/html:Special eclipse hours at the Audie Murphy/American Cotton Museum. There will be a gate fee of $8 per person\, 5 and under free. Includes admission to the museum and space on the grounds to watch the solar eclipse. The museum sits on 10 acres of land. Bring your own lawn chairs\, picnic blankets and enjoy a picnic while watching the eclipse.
LOCATION:Audie Murphy/American Cotton Museum
UID:e.2742.8214
SEQUENCE:3
DTSTAMP:20260423T125006Z
URL:https://business.greenvillechamber.com/events/details/eclipse-day-at-the-museum-8214
END:VEVENT

END:VCALENDAR
