BEGIN:VCALENDAR
VERSION:2.0
PRODID:-//ChamberMaster//Event Calendar 2.0//EN
METHOD:PUBLISH
X-PUBLISHED-TTL:P3D
REFRESH-INTERVAL:P3D
CALSCALE:GREGORIAN
BEGIN:VEVENT
DTSTART:20230930T000000Z
DTEND:20230930T020000Z
X-MICROSOFT-CDO-ALLDAYEVENT:FALSE
SUMMARY:Dailey & Vincent in Concert
DESCRIPTION:Grand Ole Opry Members Dailey & Vincent will be live at the Greenville Municipal Auditorium.
X-ALT-DESC;FMTTYPE=text/html:Grand Ole Opry Members Dailey &amp\; Vincent will be live at the Greenville Municipal Auditorium.
LOCATION:Greenville Municipal Auditorium
UID:e.2742.8056
SEQUENCE:3
DTSTAMP:20260422T101808Z
URL:https://business.greenvillechamber.com/events/details/dailey-vincent-in-concert-8056
END:VEVENT

END:VCALENDAR
