BEGIN:VCALENDAR
VERSION:2.0
PRODID:-//ChamberMaster//Event Calendar 2.0//EN
METHOD:PUBLISH
X-PUBLISHED-TTL:P3D
REFRESH-INTERVAL:P3D
CALSCALE:GREGORIAN
BEGIN:VEVENT
DTSTART:20260707T123000Z
DTEND:20260707T140000Z
X-MICROSOFT-CDO-ALLDAYEVENT:FALSE
SUMMARY:Business BEFORE Hours at GEUS
DESCRIPTION:Join us for Business BEFORE Hours with Networking and Breakfast between 7:30-9:00 AM at GEUS located at 2810 Wesley Street in Downtown Greenville.  This is a come and go.  We hope you can stop by before work!
X-ALT-DESC;FMTTYPE=text/html:<span style="color:#006400\;"><span style="font-size:16px\;"><strong>Join us for Business BEFORE Hours with Networking and Breakfast between 7:30-9:00 AM at GEUS located at 2810 Wesley Street in Downtown Greenville.&nbsp\; This is a come and go.&nbsp\; We hope you can stop by before work!</strong></span></span>
LOCATION:
UID:e.2742.8705
SEQUENCE:3
DTSTAMP:20260423T134459Z
URL:https://business.greenvillechamber.com/events/details/business-before-hours-at-geus-8705
END:VEVENT

END:VCALENDAR
