BEGIN:VCALENDAR
VERSION:2.0
PRODID:-//ChamberMaster//Event Calendar 2.0//EN
METHOD:PUBLISH
X-PUBLISHED-TTL:P3D
REFRESH-INTERVAL:P3D
CALSCALE:GREGORIAN
BEGIN:VEVENT
DTSTART:20260716T220000Z
DTEND:20260717T000000Z
X-MICROSOFT-CDO-ALLDAYEVENT:FALSE
SUMMARY:Business AFTER Hours at The Henry Group
DESCRIPTION:Join us at The Henry Group for networking\, food\, drinks\, live music and a tour of the business from 5:00-7:00 on Thursday\, July 16.  Stop by for a few minutes or stay the entire time.  We can't wait to see you!
X-ALT-DESC;FMTTYPE=text/html:<span style="font-size:16px\;"><strong>Join us at The Henry Group for networking\, food\, drinks\, live music and a tour of the business from 5:00-7:00 on Thursday\, July 16.&nbsp\; Stop by for a few minutes or stay the entire time.&nbsp\; We can&#39\;t wait to see you!</strong></span>
LOCATION:3734 Hwy 34 S\, Greenville
UID:e.2742.8706
SEQUENCE:3
DTSTAMP:20260423T134643Z
URL:https://business.greenvillechamber.com/events/details/business-after-hours-at-the-henry-group-8706
END:VEVENT

END:VCALENDAR
