BEGIN:VCALENDAR
VERSION:2.0
PRODID:-//ChamberMaster//Event Calendar 2.0//EN
METHOD:PUBLISH
X-PUBLISHED-TTL:P3D
REFRESH-INTERVAL:P3D
CALSCALE:GREGORIAN
BEGIN:VEVENT
DTSTART:20231019T220000Z
DTEND:20231020T000000Z
X-MICROSOFT-CDO-ALLDAYEVENT:FALSE
SUMMARY:Business After Hours at Alliance Bank
DESCRIPTION:Join us for Business After Hours with networking\, food and drinks at Alliance Bank located at 6609 Wesley Street in Greenville.
X-ALT-DESC;FMTTYPE=text/html:Join us for Business After Hours with networking\, food and drinks at Alliance Bank located at 6609 Wesley Street in Greenville.
LOCATION:
UID:e.2742.8077
SEQUENCE:3
DTSTAMP:20260422T103749Z
URL:https://business.greenvillechamber.com/events/details/business-after-hours-at-alliance-bank-8077
END:VEVENT

END:VCALENDAR
