BEGIN:VCALENDAR
VERSION:2.0
PRODID:-//ChamberMaster//Event Calendar 2.0//EN
METHOD:PUBLISH
X-PUBLISHED-TTL:P3D
REFRESH-INTERVAL:P3D
CALSCALE:GREGORIAN
BEGIN:VEVENT
DTSTART:20231028T210000Z
DTEND:20231028T210000Z
X-MICROSOFT-CDO-ALLDAYEVENT:FALSE
SUMMARY:Ribbon Cutting & Boo-Tiful Vendor Village Festival
DESCRIPTION:Free Entry Family FUN festival in Greenville Texas. Bounce Houses\, Vendors\, Food Trucks\, and More!
X-ALT-DESC;FMTTYPE=text/html:Free Entry Family FUN festival in Greenville Texas. Bounce Houses\, Vendors\, Food Trucks\, and More!
LOCATION:1422 County Road 1036\, Greenville\, Texas\, 75401
UID:e.2742.8101
SEQUENCE:3
DTSTAMP:20260425T141708Z
URL:https://business.greenvillechamber.com/events/details/boo-tiful-vendor-village-festival-8101
END:VEVENT

END:VCALENDAR
