BEGIN:VCALENDAR
VERSION:2.0
PRODID:-//ChamberMaster//Event Calendar 2.0//EN
METHOD:PUBLISH
X-PUBLISHED-TTL:P3D
REFRESH-INTERVAL:P3D
CALSCALE:GREGORIAN
BEGIN:VEVENT
DTSTART:20260526T213000Z
DTEND:20260526T230000Z
X-MICROSOFT-CDO-ALLDAYEVENT:FALSE
SUMMARY:Ribbon Cutting for Dodie's Cajun Kichen
DESCRIPTION:Join us for a Ribbon Cutting for Dodie's Cajun Kitchen at 4:30 on Tuesday\, May 26 located at 2205 Lee Street in Downtown Greenville.
X-ALT-DESC;FMTTYPE=text/html:<span style="font-size:16px\;"><strong>Join us for a Ribbon Cutting for Dodie&#39\;s Cajun Kitchen at 4:30 on Tuesday\, May 26 located at 2205 Lee Street in Downtown Greenville.&nbsp\;&nbsp\;</strong></span>
LOCATION:
UID:e.2742.8708
SEQUENCE:3
DTSTAMP:20260423T200931Z
URL:http://business.greenvillechamber.com/events/details/ribbon-cutting-for-dodie-s-cajun-kichen-8708
END:VEVENT

END:VCALENDAR
