BEGIN:VCALENDAR
VERSION:2.0
PRODID:-//ChamberMaster//Event Calendar 2.0//EN
METHOD:PUBLISH
X-PUBLISHED-TTL:P3D
REFRESH-INTERVAL:P3D
CALSCALE:GREGORIAN
BEGIN:VEVENT
DTSTART:20260528T163000Z
DTEND:20260528T180000Z
X-MICROSOFT-CDO-ALLDAYEVENT:FALSE
SUMMARY:FREE Lunch & Learn Training -TikTok in Your Business
DESCRIPTION:Small Business Development Center (SBDC) in conjunction with the Greenville Chamber of Commerce will host a Lunch & Learn - TikTok in Your Business.  Learn how to grow your business\, build your brand\, and connect with your audience on TikTok!  Opened to all small business owners\, entrepreneurs\, and aspiring business owners.  Reserve Your Spot Today!\n\n\n\nYou are welcome to bring your own lunch and laptop.
X-ALT-DESC;FMTTYPE=text/html:<span style="font-size:16px\;"><strong>Small Business Development Center (SBDC) in conjunction with the Greenville Chamber of Commerce will host a Lunch &amp\; Learn - TikTok in Your Business.&nbsp\; Learn how to grow your business\, build your brand\, and connect with your audience on TikTok!&nbsp\; Opened to all small business owners\, entrepreneurs\, and aspiring business owners.&nbsp\; Reserve Your Spot Today!<br />\n<br />\nYou are welcome to bring your own lunch and laptop.</strong></span><br />\n<br />\n&nbsp\;
LOCATION:The Lunch & Learn will be at the new location of the Greenville Chamber-2500 Stonewall Street\, 2nd Floor in Downtown Greenville. Please enter on the Lee Street side.
UID:e.2742.8709
SEQUENCE:3
DTSTAMP:20260424T185235Z
URL:http://business.greenvillechamber.com/events/details/free-lunch-learn-training-tiktok-in-your-business-8709
END:VEVENT

END:VCALENDAR
